BEGIN:VCALENDAR
VERSION:2.0
PRODID:-//SJAUDUBON - ECPv6.15.13//NONSGML v1.0//EN
CALSCALE:GREGORIAN
METHOD:PUBLISH
X-ORIGINAL-URL:https://www.sanjoaquinaudubon.org
X-WR-CALDESC:Events for SJAUDUBON
REFRESH-INTERVAL;VALUE=DURATION:PT1H
X-Robots-Tag:noindex
X-PUBLISHED-TTL:PT1H
BEGIN:VTIMEZONE
TZID:America/Los_Angeles
BEGIN:DAYLIGHT
TZOFFSETFROM:-0800
TZOFFSETTO:-0700
TZNAME:PDT
DTSTART:20250309T100000
END:DAYLIGHT
BEGIN:STANDARD
TZOFFSETFROM:-0700
TZOFFSETTO:-0800
TZNAME:PST
DTSTART:20251102T090000
END:STANDARD
BEGIN:DAYLIGHT
TZOFFSETFROM:-0800
TZOFFSETTO:-0700
TZNAME:PDT
DTSTART:20260308T100000
END:DAYLIGHT
BEGIN:STANDARD
TZOFFSETFROM:-0700
TZOFFSETTO:-0800
TZNAME:PST
DTSTART:20261101T090000
END:STANDARD
BEGIN:DAYLIGHT
TZOFFSETFROM:-0800
TZOFFSETTO:-0700
TZNAME:PDT
DTSTART:20270314T100000
END:DAYLIGHT
BEGIN:STANDARD
TZOFFSETFROM:-0700
TZOFFSETTO:-0800
TZNAME:PST
DTSTART:20271107T090000
END:STANDARD
END:VTIMEZONE
BEGIN:VEVENT
DTSTART;TZID=America/Los_Angeles:20260201T140000
DTEND;TZID=America/Los_Angeles:20260201T160000
DTSTAMP:20260423T183520
CREATED:20260125T041715Z
LAST-MODIFIED:20260130T062033Z
UID:5884-1769954400-1769961600@www.sanjoaquinaudubon.org
SUMMARY:Bird Sit at University of Pacific (Stockton Campus)
DESCRIPTION:Please join us for this fun event suitable for everyone. No matter your age\, your knowledge of birds and your level of mobility. We will be sitting in one spot to enjoy\, observe and/or discuss the birds\, and all other parts of nature\, around us.\nBring your questions regarding bird identification by sight or sound\, binoculars\, free phone apps\, etc.\n\nCome at any time from 2pm and stay as short or long as you like. Bring your binoculars or borrow our extras.\n\nThe fountain is located to the north of the library and bench seating is available.\n\nHandicapped parking on Atchley Wlkwy and regular parking on Dave Brubeck Way.
URL:https://www.sanjoaquinaudubon.org/event/bird-sit-at-university-of-pacific-stockton-campus/
LOCATION:University of Pacific Stockton Campus\, 3601 Pacific Ave.\, Stockton\, CA\, 95211\, United States
END:VEVENT
BEGIN:VEVENT
DTSTART;TZID=America/Los_Angeles:20260210T193000
DTEND;TZID=America/Los_Angeles:20260210T210000
DTSTAMP:20260423T183520
CREATED:20260114T232113Z
LAST-MODIFIED:20260118T170552Z
UID:5850-1770751800-1770757200@www.sanjoaquinaudubon.org
SUMMARY:Birds of the California Delta by Aaron Haiman
DESCRIPTION:The Delta is a place of connections where rivers meet each other\, where freshwater meets salt water\, where ocean fish come inland\, where birds from the north come for the winter\, and where birds from the south come to breed. The Delta is also a place of complexity. How water interacts with land and forms soil is a complex process. How birds and fish find and utilize habitats are complex sets of instincts and signals. How humans use water and land contains a nest of complex pressures. All these connections and complexities play out on a daily basis throughout the Delta. Exploring the many wetlands\, grasslands\, and sloughs of the Delta is always a fascinating and beautiful adventure into this meeting ground of complexity. And these adventures have led to a book that Aaron has written titled: Birds of the California Delta. This book introduces the reader to the Delta and to a scattering of the birds that live and visit it. Aaron will be sharing this book\, and his own birding experiences and knowledge.\n\nAaron Haiman began birding when he was 6 years old\, and his passion for birds has remained strong ever since. Following this passion has included volunteering for a variety of bird research organizations\, undergraduate and graduate degrees studying birds\, and working for the State of California as a Senior Environmental Scientist on ecosystem restoration. Aaron’s love of birds also takes him out birding on his own and with friends\, old and new\, and onto social media to share information and love of birds\, nature\, and science under the handle “A Birding Naturalist”.
URL:https://www.sanjoaquinaudubon.org/event/birds-of-the-california-delta-by-aaron-haiman-2/
LOCATION:Central United Methodist Church\, 3700 Pacific Avenue\, Stockton\, California
CATEGORIES:Chapter Programs
END:VEVENT
BEGIN:VEVENT
DTSTART;TZID=America/Los_Angeles:20260228T080000
DTEND;TZID=America/Los_Angeles:20260228T103000
DTSTAMP:20260423T183520
CREATED:20240727T205036Z
LAST-MODIFIED:20260124T162449Z
UID:4728-1772265600-1772274600@www.sanjoaquinaudubon.org
SUMMARY:Ripon Water Treatment Plant & River Trail
DESCRIPTION:As shorebirds begin their journey southward they pass through the Ripon Sewage ponds. Our hope is to be there when they pass through\, we can expect to see Greater Yellowlegs\, sandpipers (least and maybe western)\, Black neck Stilts\, long billed dowitchers and maybe a few unexpected species. Join leader Donna Marciano for a morning of birding. This will be a good trip for beginners to learn about shorebirds or for experienced birds to improve your identification skills. The trip is for folks of all ages. We will start at the gravel parking lot located at the south end of Jack Tone Road. We’ll be walking the smooth dirt/path\, accessible by stroller or wheelchair. Bring water\, hat\, sunscreen and binoculars\, we do have a few pairs to loan out for the trip if you need them.\nFirst we will look for water and shore birds on the ponds\, and then we will bird the path along the Stanislaus River.\nNote: there are no bathroom facilities on site.
URL:https://www.sanjoaquinaudubon.org/event/ripon-water-treatment-plant/
LOCATION:Ripon Water Treatment Plant
CATEGORIES:Birding FieldTrips
END:VEVENT
END:VCALENDAR