BEGIN:VCALENDAR
VERSION:2.0
PRODID:-//SJAUDUBON - ECPv6.15.13//NONSGML v1.0//EN
CALSCALE:GREGORIAN
METHOD:PUBLISH
X-ORIGINAL-URL:https://www.sanjoaquinaudubon.org
X-WR-CALDESC:Events for SJAUDUBON
REFRESH-INTERVAL;VALUE=DURATION:PT1H
X-Robots-Tag:noindex
X-PUBLISHED-TTL:PT1H
BEGIN:VTIMEZONE
TZID:America/Los_Angeles
BEGIN:DAYLIGHT
TZOFFSETFROM:-0800
TZOFFSETTO:-0700
TZNAME:PDT
DTSTART:20250309T100000
END:DAYLIGHT
BEGIN:STANDARD
TZOFFSETFROM:-0700
TZOFFSETTO:-0800
TZNAME:PST
DTSTART:20251102T090000
END:STANDARD
BEGIN:DAYLIGHT
TZOFFSETFROM:-0800
TZOFFSETTO:-0700
TZNAME:PDT
DTSTART:20260308T100000
END:DAYLIGHT
BEGIN:STANDARD
TZOFFSETFROM:-0700
TZOFFSETTO:-0800
TZNAME:PST
DTSTART:20261101T090000
END:STANDARD
BEGIN:DAYLIGHT
TZOFFSETFROM:-0800
TZOFFSETTO:-0700
TZNAME:PDT
DTSTART:20270314T100000
END:DAYLIGHT
BEGIN:STANDARD
TZOFFSETFROM:-0700
TZOFFSETTO:-0800
TZNAME:PST
DTSTART:20271107T090000
END:STANDARD
END:VTIMEZONE
BEGIN:VEVENT
DTSTART;TZID=America/Los_Angeles:20260103T070000
DTEND;TZID=America/Los_Angeles:20260103T170000
DTSTAMP:20260424T004928
CREATED:20241127T020602Z
LAST-MODIFIED:20251002T180059Z
UID:4974-1767423600-1767459600@www.sanjoaquinaudubon.org
SUMMARY:Wallace-Bellota Christmas Bird Count
DESCRIPTION:Leader: Compiler-Kasey Foley\n\n\n\n\n\n\n\n\n\n\n\nThis is a Christmas Bird Count (CBC) that goes from the valley floor up to the lower foothills and incorporates San Joaquin County\, Calaveras County\, with a sliver in Amador County. It is centered in San Joaquin County. \nBeginning birders to experienced birders are welcome. Some area have all walking (~7 miles)\, others areas have birding mostly from the car\, still other areas are a combination of both. \nChristmas Bird Counts are performed rain or shine (except in extreme conditions). \nDirections: contact Kasey Foley at kaseyfoley@sbcglobal.net for assignments\, please put “CBC” in Subject line
URL:https://www.sanjoaquinaudubon.org/event/wallace-bellota-christmas-bird-count/
CATEGORIES:Birding FieldTrips
END:VEVENT
BEGIN:VEVENT
DTSTART;TZID=America/Los_Angeles:20260124T080000
DTEND;TZID=America/Los_Angeles:20260124T230000
DTSTAMP:20260424T004928
CREATED:20241001T010828Z
LAST-MODIFIED:20251228T023353Z
UID:4845-1769241600-1769295600@www.sanjoaquinaudubon.org
SUMMARY:Wetlands Beginner Birding at the San Joaquin River NWR
DESCRIPTION:Leader: Henry Koertzen \nWe will hike along the wetlands section of the Pelican Trail for a flat couple of miles looking for a variety of bird species. Binoculars will be available for use. There are bathrooms at the parking lot.\nDirections: Meet at the refuge gravel parking lot on Dairy Road (2714 Dairy Rd\, Vernalis\, CA 95385)
URL:https://www.sanjoaquinaudubon.org/event/wetlands-beginner-birding-at-the-san-joaquin-river-nwr/
LOCATION:San Joaquin River National Wildlife Refuge\, 2714 Dairy Road\, Vernalis\, CA\, 95385\, United States
END:VEVENT
BEGIN:VEVENT
DTSTART;TZID=America/Los_Angeles:20260125T090000
DTEND;TZID=America/Los_Angeles:20260125T180000
DTSTAMP:20260424T004928
CREATED:20260105T174905Z
LAST-MODIFIED:20260105T174931Z
UID:5838-1769331600-1769364000@www.sanjoaquinaudubon.org
SUMMARY:Merced NWR Field Trip
DESCRIPTION:We will drive the loop trail.  If conditions permit and there is interest\, we can hike the refuge trails.  Expect to be back in Stockton by late afternoon.  Bring lunch\, water.  Keep your eye on the weather and dress accordingly. Carpooling is encouraged. \nMeet Jim Rowoth at\n\n07:30 AM PST @ Bagel St Cafe (formerly Tout Sweets) (Quail Lakes & March)  OR\n09:00 AM PST @ Main parking lot at entrance of NWR
URL:https://www.sanjoaquinaudubon.org/event/merced-nwr-field-trip/
LOCATION:Merced National Wildlife Refuge (NWR)\, 7430 West Sandy Mush Road\, Merced\, CA\, 95341\, United States
CATEGORIES:Birding FieldTrips
END:VEVENT
END:VCALENDAR