BEGIN:VCALENDAR
VERSION:2.0
PRODID:-//SJAUDUBON - ECPv6.15.13//NONSGML v1.0//EN
CALSCALE:GREGORIAN
METHOD:PUBLISH
X-ORIGINAL-URL:https://www.sanjoaquinaudubon.org
X-WR-CALDESC:Events for SJAUDUBON
REFRESH-INTERVAL;VALUE=DURATION:PT1H
X-Robots-Tag:noindex
X-PUBLISHED-TTL:PT1H
BEGIN:VTIMEZONE
TZID:America/Los_Angeles
BEGIN:DAYLIGHT
TZOFFSETFROM:-0800
TZOFFSETTO:-0700
TZNAME:PDT
DTSTART:20240310T100000
END:DAYLIGHT
BEGIN:STANDARD
TZOFFSETFROM:-0700
TZOFFSETTO:-0800
TZNAME:PST
DTSTART:20241103T090000
END:STANDARD
BEGIN:DAYLIGHT
TZOFFSETFROM:-0800
TZOFFSETTO:-0700
TZNAME:PDT
DTSTART:20250309T100000
END:DAYLIGHT
BEGIN:STANDARD
TZOFFSETFROM:-0700
TZOFFSETTO:-0800
TZNAME:PST
DTSTART:20251102T090000
END:STANDARD
BEGIN:DAYLIGHT
TZOFFSETFROM:-0800
TZOFFSETTO:-0700
TZNAME:PDT
DTSTART:20260308T100000
END:DAYLIGHT
BEGIN:STANDARD
TZOFFSETFROM:-0700
TZOFFSETTO:-0800
TZNAME:PST
DTSTART:20261101T090000
END:STANDARD
END:VTIMEZONE
BEGIN:VEVENT
DTSTART;TZID=America/Los_Angeles:20250713T060000
DTEND;TZID=America/Los_Angeles:20250713T170000
DTSTAMP:20260424T121955
CREATED:20250706T214847Z
LAST-MODIFIED:20250706T214847Z
UID:5529-1752386400-1752426000@www.sanjoaquinaudubon.org
SUMMARY:Silver Lake Field Trip
DESCRIPTION:Meet field trip leader\, Kasey Foley\, in the parking lot of Young’s Payless Market\, 18980 N Highway 88\, Lockeford\, CA at 6:00 AM to carpool or meet at the Plasse Resort\, 30001 Plasse Rd\, Pioneer\, CA (38.64096\, -120.1260) parking area at Silver Lake at 8:30 AM.  Parking at the Plasse Resort is $10/vehicle.  We will probably stop at Peddler Hill to look for Green-tailed towhee and other area specialties.  Possible birds to see on this trip are Hairy woodpecker\, Steller’s jay\, Western Wood Pewee\, Warbling vireo\, Golden-crowned kinglet\, Red-breasted nuthatch\, Mountain chickadee\, Western tanager\, Bald eagle\, Osprey and if we’re lucky maybe some Hermit warblers. \n\nThis will be an all day trip so bring lunch or snacks\, plenty of water\, sun protection\, insect repellent\, sturdy boots and hiking sticks\, if you use them.  Be prepared for changing weather conditions.\nRSVP to kaseyfoley@sbcglobal.net using “Silver Lake” in the subject line (or I may never find your email).\nHope to see you there!
URL:https://www.sanjoaquinaudubon.org/event/silver-lake-field-trip/
LOCATION:Silver Lake\, Amador County
CATEGORIES:Birding FieldTrips
END:VEVENT
BEGIN:VEVENT
DTSTART;TZID=America/Los_Angeles:20250719T073000
DTEND;TZID=America/Los_Angeles:20250719T120000
DTSTAMP:20260424T121955
CREATED:20230207T072248Z
LAST-MODIFIED:20250706T215240Z
UID:3291-1752910200-1752926400@www.sanjoaquinaudubon.org
SUMMARY:Waldo Holt Preserve Field Trip
DESCRIPTION:Meet leader Dave Fries at the entry gate at 7:30 a.m.  For those who haven’t been to the Preserve\, it is located on Lower Sacramento Rd\, on the left\, about 200 yards north of where Liberty Rd tees in to Lower Sac.  The plantings for the mitigation have grown considerably making good habitat for Western Bluebirds and other species.  We will be walking on dirt roads with maybe a couple of pokes into the riparian area.  Bring water and any food you might want for yourself.  The is a port-a-pot on the site.  Plan to leave the site around 11:00 a.m.  Contact Dave at dfries.audubon@gmail.com if you have questions about the trip.
URL:https://www.sanjoaquinaudubon.org/event/birding-and-workday-at-the-waldo-holt-preserve/
LOCATION:Waldo Holt Preserve\, Galt\, CA\, United States
CATEGORIES:Birding FieldTrips
END:VEVENT
BEGIN:VEVENT
DTSTART;TZID=America/Los_Angeles:20250726T070000
DTEND;TZID=America/Los_Angeles:20250726T100000
DTSTAMP:20260424T121955
CREATED:20250317T215206Z
LAST-MODIFIED:20250721T224042Z
UID:5181-1753513200-1753524000@www.sanjoaquinaudubon.org
SUMMARY:Birding Shadow Cliffs Regional Recreation Area
DESCRIPTION:Join leader Henry Koertzen for a birding walk through the riparian habitat with several ponds. The levee walk gives great views over the ponds and the lake (once a gravel pit). There are restrooms at the lake. Extra binoculars will be available. \n\nDirections:  We will enter the park from the south at 8am. There is an entrance and free street parking on Park Access Road.\nA carpool will leave from the Tracy Applebee’s (3060 Naglee Rd\, Tracy\, CA 95304) at 6:45 am.
URL:https://www.sanjoaquinaudubon.org/event/birding-shadow-cliffs-regional-recreation-area/
LOCATION:Cliffs Regional Recreation Area\, 2500 Stanley Boulevard\, Pleasanton\, 94566\, United States
CATEGORIES:Birding FieldTrips
END:VEVENT
END:VCALENDAR