BEGIN:VCALENDAR
VERSION:2.0
PRODID:-//SJAUDUBON - ECPv6.15.13//NONSGML v1.0//EN
CALSCALE:GREGORIAN
METHOD:PUBLISH
X-WR-CALNAME:SJAUDUBON
X-ORIGINAL-URL:https://www.sanjoaquinaudubon.org
X-WR-CALDESC:Events for SJAUDUBON
REFRESH-INTERVAL;VALUE=DURATION:PT1H
X-Robots-Tag:noindex
X-PUBLISHED-TTL:PT1H
BEGIN:VTIMEZONE
TZID:America/Los_Angeles
BEGIN:DAYLIGHT
TZOFFSETFROM:-0800
TZOFFSETTO:-0700
TZNAME:PDT
DTSTART:20240310T100000
END:DAYLIGHT
BEGIN:STANDARD
TZOFFSETFROM:-0700
TZOFFSETTO:-0800
TZNAME:PST
DTSTART:20241103T090000
END:STANDARD
BEGIN:DAYLIGHT
TZOFFSETFROM:-0800
TZOFFSETTO:-0700
TZNAME:PDT
DTSTART:20250309T100000
END:DAYLIGHT
BEGIN:STANDARD
TZOFFSETFROM:-0700
TZOFFSETTO:-0800
TZNAME:PST
DTSTART:20251102T090000
END:STANDARD
BEGIN:DAYLIGHT
TZOFFSETFROM:-0800
TZOFFSETTO:-0700
TZNAME:PDT
DTSTART:20260308T100000
END:DAYLIGHT
BEGIN:STANDARD
TZOFFSETFROM:-0700
TZOFFSETTO:-0800
TZNAME:PST
DTSTART:20261101T090000
END:STANDARD
END:VTIMEZONE
BEGIN:VTIMEZONE
TZID:UTC
BEGIN:STANDARD
TZOFFSETFROM:+0000
TZOFFSETTO:+0000
TZNAME:UTC
DTSTART:20240101T000000
END:STANDARD
END:VTIMEZONE
BEGIN:VEVENT
DTSTART;TZID=America/Los_Angeles:20250613T080000
DTEND;TZID=America/Los_Angeles:20250613T120000
DTSTAMP:20260424T133247
CREATED:20250603T034738Z
LAST-MODIFIED:20250609T181956Z
UID:5494-1749801600-1749816000@www.sanjoaquinaudubon.org
SUMMARY:Indian Grinding Rocks SP Field Trip
DESCRIPTION:Join leader Donna Marciano for a day of birding at this beautiful State Park. We should see many species including Turkey Vultures\, Scrub and Steller’s Jays\, California Quail\, Acorn and Hairy Woodpeckers\, Northern Flickers\, Hermit Thrushes\, Wild Turkeys\, and Black capped Chickadee. With the warmer weather upon us\, many of the bright colors of the Western Tanager\, Bullock’s Oriole\, Calliope and Anna’s Hummingbirds can be seen in the nearby woods around the meadow. A bird list is available at the museum. Trip goes until 12 or 1 PM\, so bring water\, hat\, sunscreen and a lunch for the small picnic area. There will be some light to moderate walking. Restrooms available\, there is a park entrance fee of $8.00/car. Meet at 8am in the State Park parking lot. If you would like to carpool\, meet at the Payless Market in Lockford at 7am.\nDirections: 14881 Pine Grove Volcano Rd\, Pine Grove\, CA 95665
URL:https://www.sanjoaquinaudubon.org/event/indian-grinding-rocks-sp-field-trip/
LOCATION:Indian Grinding Rocks\, 14881 Pine Grove-Volcano Road\, Pine Grove\, CA\, 95665\, United States
CATEGORIES:Birding FieldTrips
END:VEVENT
BEGIN:VEVENT
DTSTART;TZID=UTC:20250614T083000
DTEND;TZID=UTC:20250614T153000
DTSTAMP:20260424T133247
CREATED:20230418T042425Z
LAST-MODIFIED:20250524T221322Z
UID:3443-1749889800-1749915000@www.sanjoaquinaudubon.org
SUMMARY:San Joaquin County Summer Butterfly Count
DESCRIPTION:Join us for our annual summer butterfly count (San Joaquin Audubon field trip) on Saturday\, June 14\, 2025\, @ 8:30. It will be a full warm summer day\, and in recent years we work hard to find more than ten butterfly species within the count area. But this is a very special year\, the 50th year since this count was first started.\n\nWe will start out at Shumway Oak Grove Park off of Eight Mile Road\, at 8:30am\, there is a parking charge per vehicle\, then we divide up into two groups\, covering the entire Miwok Trail\, the closest to natural areas at that park.  After that our group visits three more sites: county and city parks\, along with state open areas. We encourage all to bring nets\, and we try to share our nets.  We especially encourage children\, who often find our best butterflies. You will need to bring lunch and wear hats\, sunscreen and comfortable shoes. We will provide a complementary color\, life sized butterfly field guide for each participant. Sponsors of the count are\, San Joaquin Audubon Society\, University of California Cooperative Extension & the North American Butterfly Association. Questions\, \nPlease RSPV with leader Kathy Schick (209-612-5130 or kschick2@gmail.com) by Thursday June 12th so she can bring enough nets and free parking passes for all. Questions are welcome.
URL:https://www.sanjoaquinaudubon.org/event/san-joaquin-county-summer-butterfly-count/
CATEGORIES:Birding FieldTrips,ButterflyCount
END:VEVENT
BEGIN:VEVENT
DTSTART;TZID=America/Los_Angeles:20250618T073000
DTEND;TZID=America/Los_Angeles:20250618T110000
DTSTAMP:20260424T133247
CREATED:20250606T001345Z
LAST-MODIFIED:20250606T001345Z
UID:5513-1750231800-1750244400@www.sanjoaquinaudubon.org
SUMMARY:Black Hole Field Trip
DESCRIPTION:Meet leader Dave Fries at the entrance driveway to the Black Hole on West Woodbridge Rd at 7:30 a.m.\, Wednesday\, June 18.  We will drive in to the clubhouse parking area as a group.  Plan to walk for several hours on flat farm roads.  Restrooms are available in the clubhouse area.  Bring food and water for yourself.  We will end the field trip by noon.  Contact Dave at dfries.audubon@gmail.com if you have additional questions.
URL:https://www.sanjoaquinaudubon.org/event/black-hole-field-trip/
CATEGORIES:Birding FieldTrips
END:VEVENT
END:VCALENDAR