BEGIN:VCALENDAR
VERSION:2.0
PRODID:-//SJAUDUBON - ECPv6.15.13//NONSGML v1.0//EN
CALSCALE:GREGORIAN
METHOD:PUBLISH
X-ORIGINAL-URL:https://www.sanjoaquinaudubon.org
X-WR-CALDESC:Events for SJAUDUBON
REFRESH-INTERVAL;VALUE=DURATION:PT1H
X-Robots-Tag:noindex
X-PUBLISHED-TTL:PT1H
BEGIN:VTIMEZONE
TZID:America/Los_Angeles
BEGIN:DAYLIGHT
TZOFFSETFROM:-0800
TZOFFSETTO:-0700
TZNAME:PDT
DTSTART:20240310T100000
END:DAYLIGHT
BEGIN:STANDARD
TZOFFSETFROM:-0700
TZOFFSETTO:-0800
TZNAME:PST
DTSTART:20241103T090000
END:STANDARD
BEGIN:DAYLIGHT
TZOFFSETFROM:-0800
TZOFFSETTO:-0700
TZNAME:PDT
DTSTART:20250309T100000
END:DAYLIGHT
BEGIN:STANDARD
TZOFFSETFROM:-0700
TZOFFSETTO:-0800
TZNAME:PST
DTSTART:20251102T090000
END:STANDARD
BEGIN:DAYLIGHT
TZOFFSETFROM:-0800
TZOFFSETTO:-0700
TZNAME:PDT
DTSTART:20260308T100000
END:DAYLIGHT
BEGIN:STANDARD
TZOFFSETFROM:-0700
TZOFFSETTO:-0800
TZNAME:PST
DTSTART:20261101T090000
END:STANDARD
END:VTIMEZONE
BEGIN:VEVENT
DTSTART;TZID=America/Los_Angeles:20250408T193000
DTEND;TZID=America/Los_Angeles:20250408T210000
DTSTAMP:20260424T162439
CREATED:20250214T025138Z
LAST-MODIFIED:20250214T025138Z
UID:5088-1744140600-1744146000@www.sanjoaquinaudubon.org
SUMMARY:Beef Raised on Bird-Friendly Land
DESCRIPTION:Speakera: 3 Calhoun Sisters \nPlease join us for a visit from the 3 Calhoun Sisters\, cattle ranchers located in Livermore\, Ca. They have been farming in the Livermore area for over 100 years. The 3 Calhoun Sisters have recently been certified by Audubon Conservation Ranching for Beef Raised on Bird-Friendly Land. \nThe ranch has set in place many conservation measures to assist in promoting wildlife some of them are; \n\nThe installation of bluebird boxes to increase the bluebird populations\, bluebirds are one of the most desired birds as they eat destructive pests such as snails\, grasshoppers\, termites\, moths\, and mosquitos.\nOwl boxes were also installed by Our friends at the NRCS/RCD to use the circle of life method of ridding the garden of the gophers instead of using rodenticides or traps.\nAll of the watering troughs on our ranch have ramps that allow wildlife that may become trapped in a trough an easy way out.\nOak Tree restoration Project started in 2020 to replant and restore some of the older mature trees that were falling over.\n\nThe Pollinator Program started a few years ago after finding native milkweed on the property\, the sisters worked with local conservation districts to plant more milkweed and other pollinator plants. \nGo from consumer to conservationist when you purchase beef and bison raised on Audubon Certified bird-friendly land! You can help Audubon protect birds and the places they need\, today and tomorrow. Come listen The 3 Calhoun Sisters tell us their success stories on their ranch to help conserve all types of wildlife.
URL:https://www.sanjoaquinaudubon.org/event/beef-raised-on-bird-friendly-land/
LOCATION:Central United Methodist Church\, 3700 Pacific Avenue\, Stockton\, California
CATEGORIES:Birding FieldTrips,Chapter Programs
END:VEVENT
END:VCALENDAR