BEGIN:VCALENDAR
VERSION:2.0
PRODID:-//SJAUDUBON - ECPv6.15.13//NONSGML v1.0//EN
CALSCALE:GREGORIAN
METHOD:PUBLISH
X-WR-CALNAME:SJAUDUBON
X-ORIGINAL-URL:https://www.sanjoaquinaudubon.org
X-WR-CALDESC:Events for SJAUDUBON
REFRESH-INTERVAL;VALUE=DURATION:PT1H
X-Robots-Tag:noindex
X-PUBLISHED-TTL:PT1H
BEGIN:VTIMEZONE
TZID:America/Los_Angeles
BEGIN:DAYLIGHT
TZOFFSETFROM:-0800
TZOFFSETTO:-0700
TZNAME:PDT
DTSTART:20240310T100000
END:DAYLIGHT
BEGIN:STANDARD
TZOFFSETFROM:-0700
TZOFFSETTO:-0800
TZNAME:PST
DTSTART:20241103T090000
END:STANDARD
BEGIN:DAYLIGHT
TZOFFSETFROM:-0800
TZOFFSETTO:-0700
TZNAME:PDT
DTSTART:20250309T100000
END:DAYLIGHT
BEGIN:STANDARD
TZOFFSETFROM:-0700
TZOFFSETTO:-0800
TZNAME:PST
DTSTART:20251102T090000
END:STANDARD
BEGIN:DAYLIGHT
TZOFFSETFROM:-0800
TZOFFSETTO:-0700
TZNAME:PDT
DTSTART:20260308T100000
END:DAYLIGHT
BEGIN:STANDARD
TZOFFSETFROM:-0700
TZOFFSETTO:-0800
TZNAME:PST
DTSTART:20261101T090000
END:STANDARD
END:VTIMEZONE
BEGIN:VEVENT
DTSTART;TZID=America/Los_Angeles:20250211T193000
DTEND;TZID=America/Los_Angeles:20250211T210000
DTSTAMP:20260424T190749
CREATED:20250201T001454Z
LAST-MODIFIED:20250201T040127Z
UID:5045-1739302200-1739307600@www.sanjoaquinaudubon.org
SUMMARY:Zookeepers Don't Just Clean Exhibits
DESCRIPTION:Come join us to learn more about the Mickie Grove Zoo on Tuesday\, February 11 @ 7:30pm.\n\nMicke Grove Zoo is a five-acre zoo with amphibians\, mammals\, birds\, reptiles and invertebrates.The zoo that exists today is very different from the zoo that first opened its gates in 1957. Today\, the collection of Micke Grove Zoo emphasizes uniqueness and quality over size and quantity with a concentration on the welfare of the animal ambassadors that live here. Ms. Madeline Chester\, Education and Interpretative Specialist will discuss “Zookeepers don’t just clean exhibits\,” and yes there is Plenty to do! Let’s start with the education program for elementary school children & being the primary caregiver for these animals\, fundraising and special events for the zoo\, while also working on the Species Survival Plan program\, providing care to the non releasable wildlife that call the zoo home and providing training for the zoo’s volunteer program. Madeline will discuss her job at the zoo and how full filling the work is.
URL:https://www.sanjoaquinaudubon.org/event/zookeepers-dont-just-clean-exhibits/
LOCATION:Central United Methodist Church\, 3700 Pacific Avenue\, Stockton\, California
CATEGORIES:Birding FieldTrips,Chapter Programs
END:VEVENT
BEGIN:VEVENT
DTSTART;TZID=America/Los_Angeles:20250212T090000
DTEND;TZID=America/Los_Angeles:20250212T110000
DTSTAMP:20260424T190749
CREATED:20250207T152258Z
LAST-MODIFIED:20250207T152437Z
UID:5062-1739350800-1739358000@www.sanjoaquinaudubon.org
SUMMARY:Trip to White Slough WTP (Lodi Sweage Ponds)
DESCRIPTION:We will bird for 1-2 hours (depending on the birding) walking on mostly level ground for 1 to 1 1/2 miles. Possible birds at the White Slough WTP (a.k.a Lodi Sewage Ponds) include Northern Shovler\, Common Goldeneye\, Bufflehead. Ruddy Duck\, Greater Yellowlegs\, Black-necked Stilt\, American Avocet\, Least Sandpiper\, Spotted Sandpiper\, Bonaparte’s Gull\, Great Egret\, Snowy Egret\, Forester’s Tern. And\, if we are lucky\, we may see Short-billed Gull\, Peregrine Falcon\, American White Pelican\, Western Sandpiper\, Black-bellied Plover and who knows what else! \nWe have received permission to take up to 8 people for birding at this location. You will need to sign at the location and provide mandatory waiver form that Kasey will provide upon receiving your RSVP.  RSVP is required \nPlease RSVP to Kasey Foley at kaseyfoley@sbcglobal.net and mention “White Slough WTP” in the subject line. \nMeting Location: \nStarbucks at 14820 Star St\, Lodi to ride share. There is limited parcking at the birding location. There is no public restroom at the location\, but may be nearby Flag City.
URL:https://www.sanjoaquinaudubon.org/event/trip-to-white-slough-wtp-lodi-sweage-ponds/
LOCATION:White Slough WTP
CATEGORIES:Birding FieldTrips
END:VEVENT
BEGIN:VEVENT
DTSTART;TZID=America/Los_Angeles:20250222T080000
DTEND;TZID=America/Los_Angeles:20250222T110000
DTSTAMP:20260424T190749
CREATED:20240219T024420Z
LAST-MODIFIED:20250124T165750Z
UID:4540-1740211200-1740222000@www.sanjoaquinaudubon.org
SUMMARY:Beginner Birding at the Ripon Sewage Ponds and River Trail
DESCRIPTION:Join leader Henry Koertzen for a beginner birding walk for folks if all ages. We will start at the gravel parking lot located at the south end of Jack Tone Road. We’ll be walking the smooth dirt/paved path\, accessible by stroller or wheelchair.\n\nFirst we will look for water and shore birds on the ponds\, and then we will follow the path along the Stanislaus River. If we still have time and energy we will drive over to Oak Grove Park.\n\nNote: there are bathroom facilities on site.
URL:https://www.sanjoaquinaudubon.org/event/beginner-birding-in-ripon/
LOCATION:Ripon\, 1260 S Jack Tone Rd\, Ripon\, CA\, United States
CATEGORIES:Birding FieldTrips
END:VEVENT
END:VCALENDAR