BEGIN:VCALENDAR
VERSION:2.0
PRODID:-//SJAUDUBON - ECPv6.15.13//NONSGML v1.0//EN
CALSCALE:GREGORIAN
METHOD:PUBLISH
X-ORIGINAL-URL:https://www.sanjoaquinaudubon.org
X-WR-CALDESC:Events for SJAUDUBON
REFRESH-INTERVAL;VALUE=DURATION:PT1H
X-Robots-Tag:noindex
X-PUBLISHED-TTL:PT1H
BEGIN:VTIMEZONE
TZID:America/Los_Angeles
BEGIN:DAYLIGHT
TZOFFSETFROM:-0800
TZOFFSETTO:-0700
TZNAME:PDT
DTSTART:20230312T100000
END:DAYLIGHT
BEGIN:STANDARD
TZOFFSETFROM:-0700
TZOFFSETTO:-0800
TZNAME:PST
DTSTART:20231105T090000
END:STANDARD
BEGIN:DAYLIGHT
TZOFFSETFROM:-0800
TZOFFSETTO:-0700
TZNAME:PDT
DTSTART:20240310T100000
END:DAYLIGHT
BEGIN:STANDARD
TZOFFSETFROM:-0700
TZOFFSETTO:-0800
TZNAME:PST
DTSTART:20241103T090000
END:STANDARD
BEGIN:DAYLIGHT
TZOFFSETFROM:-0800
TZOFFSETTO:-0700
TZNAME:PDT
DTSTART:20250309T100000
END:DAYLIGHT
BEGIN:STANDARD
TZOFFSETFROM:-0700
TZOFFSETTO:-0800
TZNAME:PST
DTSTART:20251102T090000
END:STANDARD
END:VTIMEZONE
BEGIN:VEVENT
DTSTART;TZID=America/Los_Angeles:20240614T060000
DTEND;TZID=America/Los_Angeles:20240614T140000
DTSTAMP:20260425T055014
CREATED:20240520T232622Z
LAST-MODIFIED:20240520T232622Z
UID:4694-1718344800-1718373600@www.sanjoaquinaudubon.org
SUMMARY:Silver Lake (Amador County) Birding Trip
DESCRIPTION:Join leaders Pat Paternostro and Kasey Foley\, Friday\, June 14th\, for a birding trip in the Sierra Nevada’s. We will bird several areas near Silver Lake\, Amador County. \nWe will look for summering migrants and Sierra residents. In the past we have identi’ed species including\, Pine Grosbeak\, Pygmy Nuthatch and White-headed Woodpecker. \nWe will meet at 6:00am at Young’s Payless Market in Lockeford – (18980 CA-88\, Lockeford). We will carpool to Plasse’s resort (June 14th is their opening day)\, which will be our starting point for birding. The resort is a bit less than 2 hours from Lockeford. Plan to bring a lunch and water\, as we will stay until 2pm or so. The walking is mostly 7at\, but boots are recommended. \nReach out to Pat Paternostro if you have any questions or would like to RSVP…broncos30@hotmail.com. Hope to see you there!
URL:https://www.sanjoaquinaudubon.org/event/silver-lake-amador-county-birding-trip/
LOCATION:Silver Lake\, Amador County
CATEGORIES:Birding FieldTrips
END:VEVENT
BEGIN:VEVENT
DTSTART;TZID=America/Los_Angeles:20240622T190000
DTEND;TZID=America/Los_Angeles:20240622T220000
DTSTAMP:20260425T055014
CREATED:20230723T080624Z
LAST-MODIFIED:20240612T161912Z
UID:3778-1719082800-1719093600@www.sanjoaquinaudubon.org
SUMMARY:Carnegie Night Walk
DESCRIPTION:Meet Kasey Foley at the entry gate of Carnegie SVRA located at 18600 Corral Hollow Road in Tracy for a walk on the wild side.  This walk will be on the ALAMEDA COUNTY portion of the park but it’s a beautiful walk sometimes yielding Western Screech Owls\, Great Horned Owls\, cool scorpions and spiders\, again it’s Alameda County\,\n \n\nThings to keep in mind are there may be bugs so bring bug spray\, sun protection\, dress in layers as it may get cold later\, bring snacks and water as we may be gone for 2-3 hours\, and you may want to bring a walking stick as the footing may not be even and we will be climbing up rock/dirt trails. Be sure to bring a flashlight or headlamp because it will be dark on our way back.  Oh yeah\, don’t forget your binoculars!  Also\, remember there are rattlesnakes in this park so boots are recommended.  The only restroom facilities are at the entrance of the park and maybe at the beginning of the trail (but I’m not sure).
URL:https://www.sanjoaquinaudubon.org/event/carnegie-night-walk/
LOCATION:Carnegie State Vehicular Recreation Area (SVRA)\, 18600 Corral Hollow Rd\, Tracy\, CA\, 95376\, United States
CATEGORIES:Birding FieldTrips,ButterflyCount,External Events
END:VEVENT
END:VCALENDAR