BEGIN:VCALENDAR
VERSION:2.0
PRODID:-//SJAUDUBON - ECPv6.15.13//NONSGML v1.0//EN
CALSCALE:GREGORIAN
METHOD:PUBLISH
X-WR-CALNAME:SJAUDUBON
X-ORIGINAL-URL:https://www.sanjoaquinaudubon.org
X-WR-CALDESC:Events for SJAUDUBON
REFRESH-INTERVAL;VALUE=DURATION:PT1H
X-Robots-Tag:noindex
X-PUBLISHED-TTL:PT1H
BEGIN:VTIMEZONE
TZID:America/Los_Angeles
BEGIN:DAYLIGHT
TZOFFSETFROM:-0800
TZOFFSETTO:-0700
TZNAME:PDT
DTSTART:20230312T100000
END:DAYLIGHT
BEGIN:STANDARD
TZOFFSETFROM:-0700
TZOFFSETTO:-0800
TZNAME:PST
DTSTART:20231105T090000
END:STANDARD
BEGIN:DAYLIGHT
TZOFFSETFROM:-0800
TZOFFSETTO:-0700
TZNAME:PDT
DTSTART:20240310T100000
END:DAYLIGHT
BEGIN:STANDARD
TZOFFSETFROM:-0700
TZOFFSETTO:-0800
TZNAME:PST
DTSTART:20241103T090000
END:STANDARD
BEGIN:DAYLIGHT
TZOFFSETFROM:-0800
TZOFFSETTO:-0700
TZNAME:PDT
DTSTART:20250309T100000
END:DAYLIGHT
BEGIN:STANDARD
TZOFFSETFROM:-0700
TZOFFSETTO:-0800
TZNAME:PST
DTSTART:20251102T090000
END:STANDARD
END:VTIMEZONE
BEGIN:VEVENT
DTSTART;TZID=America/Los_Angeles:20240203T080000
DTEND;TZID=America/Los_Angeles:20240203T103000
DTSTAMP:20260425T112531
CREATED:20221229T012947Z
LAST-MODIFIED:20240131T015041Z
UID:2629-1706947200-1706956200@www.sanjoaquinaudubon.org
SUMMARY:INTRODUCTORY BIRDING @ Lodi's Hutchin's Street Square
DESCRIPTION:Join Pat Paternostro for a walk around Lodi’s Hutchin’s Street Square. We will walk this wonderful area and look for birds around the complex and in the large trees and nearby parks. \nExtra binoculars and bird guides will be available. \nWe will meet at the parking lot on the south side of the complex at 8am.
URL:https://www.sanjoaquinaudubon.org/event/introductory-birding-lodi-lake/
LOCATION:Lodi’s Hutchin’s Street Square\, 125 S Hutchins St.\, CA 95242\, Lodi\, CA\, United States
CATEGORIES:Birding FieldTrips
END:VEVENT
END:VCALENDAR