BEGIN:VCALENDAR
VERSION:2.0
PRODID:-//SJAUDUBON - ECPv6.15.13//NONSGML v1.0//EN
CALSCALE:GREGORIAN
METHOD:PUBLISH
X-ORIGINAL-URL:https://www.sanjoaquinaudubon.org
X-WR-CALDESC:Events for SJAUDUBON
REFRESH-INTERVAL;VALUE=DURATION:PT1H
X-Robots-Tag:noindex
X-PUBLISHED-TTL:PT1H
BEGIN:VTIMEZONE
TZID:America/Los_Angeles
BEGIN:DAYLIGHT
TZOFFSETFROM:-0800
TZOFFSETTO:-0700
TZNAME:PDT
DTSTART:20230312T100000
END:DAYLIGHT
BEGIN:STANDARD
TZOFFSETFROM:-0700
TZOFFSETTO:-0800
TZNAME:PST
DTSTART:20231105T090000
END:STANDARD
BEGIN:DAYLIGHT
TZOFFSETFROM:-0800
TZOFFSETTO:-0700
TZNAME:PDT
DTSTART:20240310T100000
END:DAYLIGHT
BEGIN:STANDARD
TZOFFSETFROM:-0700
TZOFFSETTO:-0800
TZNAME:PST
DTSTART:20241103T090000
END:STANDARD
BEGIN:DAYLIGHT
TZOFFSETFROM:-0800
TZOFFSETTO:-0700
TZNAME:PDT
DTSTART:20250309T100000
END:DAYLIGHT
BEGIN:STANDARD
TZOFFSETFROM:-0700
TZOFFSETTO:-0800
TZNAME:PST
DTSTART:20251102T090000
END:STANDARD
END:VTIMEZONE
BEGIN:VEVENT
DTSTART;TZID=America/Los_Angeles:20240125T190000
DTEND;TZID=America/Los_Angeles:20240125T203000
DTSTAMP:20260425T124651
CREATED:20240125T233245Z
LAST-MODIFIED:20240125T233321Z
UID:4483-1706209200-1706214600@www.sanjoaquinaudubon.org
SUMMARY:BigYear 2023 Wrapup (zoom) Meeting
DESCRIPTION:We will be having a Zoom meeting this Thursday (Jan 25th) evening at 7pm to share details and pics from our Big Year 2023.\n\nYou can join us by signing into the link attached. \nzoom: https://us02web.zoom.us/j/87283613794?pwd=d2dHelRNRlh4czI0N3c1cnZjeFM0QT09 \n\nPasscode: 098038
URL:https://www.sanjoaquinaudubon.org/event/bigyear-2023-wrapup-zoom-meeting/
END:VEVENT
END:VCALENDAR