BEGIN:VCALENDAR
VERSION:2.0
PRODID:-//SJAUDUBON - ECPv6.15.13//NONSGML v1.0//EN
CALSCALE:GREGORIAN
METHOD:PUBLISH
X-ORIGINAL-URL:https://www.sanjoaquinaudubon.org
X-WR-CALDESC:Events for SJAUDUBON
REFRESH-INTERVAL;VALUE=DURATION:PT1H
X-Robots-Tag:noindex
X-PUBLISHED-TTL:PT1H
BEGIN:VTIMEZONE
TZID:America/Los_Angeles
BEGIN:DAYLIGHT
TZOFFSETFROM:-0800
TZOFFSETTO:-0700
TZNAME:PDT
DTSTART:20220313T100000
END:DAYLIGHT
BEGIN:STANDARD
TZOFFSETFROM:-0700
TZOFFSETTO:-0800
TZNAME:PST
DTSTART:20221106T090000
END:STANDARD
BEGIN:DAYLIGHT
TZOFFSETFROM:-0800
TZOFFSETTO:-0700
TZNAME:PDT
DTSTART:20230312T100000
END:DAYLIGHT
BEGIN:STANDARD
TZOFFSETFROM:-0700
TZOFFSETTO:-0800
TZNAME:PST
DTSTART:20231105T090000
END:STANDARD
BEGIN:DAYLIGHT
TZOFFSETFROM:-0800
TZOFFSETTO:-0700
TZNAME:PDT
DTSTART:20240310T100000
END:DAYLIGHT
BEGIN:STANDARD
TZOFFSETFROM:-0700
TZOFFSETTO:-0800
TZNAME:PST
DTSTART:20241103T090000
END:STANDARD
END:VTIMEZONE
BEGIN:VEVENT
DTSTART;TZID=America/Los_Angeles:20231023T190000
DTEND;TZID=America/Los_Angeles:20231023T210000
DTSTAMP:20260425T183102
CREATED:20230830T143527Z
LAST-MODIFIED:20230830T143527Z
UID:4268-1698087600-1698094800@www.sanjoaquinaudubon.org
SUMMARY:A Bit About Bats with NorCal Bats
DESCRIPTION:Presenter : Corky Quirk\, the founder of NorCal Bats \nThis program is our annual Delta-Sierra Group and San Joaquin Audubon Society meeting and this year is hosted by the Delta-Sierra Group. The meeting is held on their regular meeting night which is why it’s a different day and date. \nThe presentation will include a discussion of bats’ role in the environment and their importance to agriculture. \nThe meetings take place in the Fireside Room of the Central United Methodist Church located at 3700 Pacific Avenue in Stockton. Plenty of parking and snacks.
URL:https://www.sanjoaquinaudubon.org/event/a-bit-about-bats-with-norcal-bats/
LOCATION:Central United Methodist Church\, 3700 Pacific Avenue\, Stockton\, California
CATEGORIES:Chapter Programs
END:VEVENT
END:VCALENDAR