BEGIN:VCALENDAR
VERSION:2.0
PRODID:-//SJAUDUBON - ECPv6.15.13//NONSGML v1.0//EN
CALSCALE:GREGORIAN
METHOD:PUBLISH
X-WR-CALNAME:SJAUDUBON
X-ORIGINAL-URL:https://www.sanjoaquinaudubon.org
X-WR-CALDESC:Events for SJAUDUBON
REFRESH-INTERVAL;VALUE=DURATION:PT1H
X-Robots-Tag:noindex
X-PUBLISHED-TTL:PT1H
BEGIN:VTIMEZONE
TZID:UTC
BEGIN:STANDARD
TZOFFSETFROM:+0000
TZOFFSETTO:+0000
TZNAME:UTC
DTSTART:20220101T000000
END:STANDARD
END:VTIMEZONE
BEGIN:VTIMEZONE
TZID:America/Los_Angeles
BEGIN:DAYLIGHT
TZOFFSETFROM:-0800
TZOFFSETTO:-0700
TZNAME:PDT
DTSTART:20220313T100000
END:DAYLIGHT
BEGIN:STANDARD
TZOFFSETFROM:-0700
TZOFFSETTO:-0800
TZNAME:PST
DTSTART:20221106T090000
END:STANDARD
BEGIN:DAYLIGHT
TZOFFSETFROM:-0800
TZOFFSETTO:-0700
TZNAME:PDT
DTSTART:20230312T100000
END:DAYLIGHT
BEGIN:STANDARD
TZOFFSETFROM:-0700
TZOFFSETTO:-0800
TZNAME:PST
DTSTART:20231105T090000
END:STANDARD
BEGIN:DAYLIGHT
TZOFFSETFROM:-0800
TZOFFSETTO:-0700
TZNAME:PDT
DTSTART:20240310T100000
END:DAYLIGHT
BEGIN:STANDARD
TZOFFSETFROM:-0700
TZOFFSETTO:-0800
TZNAME:PST
DTSTART:20241103T090000
END:STANDARD
END:VTIMEZONE
BEGIN:VEVENT
DTSTART;TZID=UTC:20230507T080000
DTEND;TZID=UTC:20230507T220000
DTSTAMP:20260424T021719
CREATED:20230424T120831Z
LAST-MODIFIED:20230424T120831Z
UID:3504-1683446400-1683496800@www.sanjoaquinaudubon.org
SUMMARY:UOP Native Plant Walk
DESCRIPTION:Leaders – Doug and Amy Weiser \n\nMeet Doug and Amy Weiser at 8 am at the benches at the south side of the Biological Sciences Building (near Kensington and Alpine Road intersection). This morning walk will visit the Lower Calaveras River\, and the two native plant gardens at the University of the Pacific discussing the native pollinators\, native plants and birds.
URL:https://www.sanjoaquinaudubon.org/event/uop-native-plant-walk/
LOCATION:Biological Sciences Building (South Side)\, 3401 Kensington Way\, Stockton\, CA\, 95204\, United States
CATEGORIES:Plants FieldTrips
END:VEVENT
BEGIN:VEVENT
DTSTART;TZID=UTC:20230506T080000
DTEND;TZID=UTC:20230506T103000
DTSTAMP:20260424T021719
CREATED:20230506T100611Z
LAST-MODIFIED:20230506T100642Z
UID:3526-1683360000-1683369000@www.sanjoaquinaudubon.org
SUMMARY:INTRODUCTORY BIRDING @ Ripon Sewage Ponds
DESCRIPTION:Since Lodi Lak is closed for Fusion Music Festival\, the Introductory Birding Trip is moved to Ripon Sewage Ponds / Oak Grove Park. \nJoin leader Pat Paternostro at the below location near the Ripon Sewage Pond (East) at 8:00AM PST. Birders of all skill levels are welcome\, but the focus will be on birding fundamentals. Extra binoculars and field guides will be available. \nhttps://goo.gl/maps/CtACgzw8tGwz6iwa6 \nIf you need help with direction\, please call Pat at 209-269-1414
URL:https://www.sanjoaquinaudubon.org/event/introductory-birding-ripon-sewage-ponds/
LOCATION:Ripon Sewage Ponds (East) & Oak Grove park.\, 1250 S Stockton Ave\, Ripon\, CA\, 95366\, United States
CATEGORIES:Birding FieldTrips
END:VEVENT
BEGIN:VEVENT
DTSTART;TZID=UTC:20230416T080000
DTEND;TZID=UTC:20230416T140000
DTSTAMP:20260424T021719
CREATED:20230411T124829Z
LAST-MODIFIED:20230411T124945Z
UID:3440-1681632000-1681653600@www.sanjoaquinaudubon.org
SUMMARY:McDonald Island Birding
DESCRIPTION:We have permission to bird on McDonald Island on Sunday\, April 16th.  We’ll meet at 8:00 a.m. at the bridge to the island and go in as a group. For directions\, it’s best to Google Tiki Lagoon Marina.  Maybe bring some water and a snack as we might bird into early afternoon. \nThose who wish to go should email David Fres at dfries.audubon@gmail.com\, as access to the island is restricted and we need to go in all together. It’s okay to invite anyone else whom I have left off this email. They should just let me know so we can wait for everyone at the bridge.
URL:https://www.sanjoaquinaudubon.org/event/mcdonald-island-birding/
LOCATION:Tiki Lagoon Marina\, 12988\, W McDonald
CATEGORIES:Birding FieldTrips
END:VEVENT
BEGIN:VEVENT
DTSTART;TZID=UTC:20230411T193000
DTEND;TZID=UTC:20230411T203000
DTSTAMP:20260424T021719
CREATED:20230309T044917Z
LAST-MODIFIED:20230316T111626Z
UID:3385-1681241400-1681245000@www.sanjoaquinaudubon.org
SUMMARY:Gardening for Native Pollinators in the Central Valley
DESCRIPTION:By Amy Weiser and Doug Weiser \nThis presentation will discuss gardening for native pollinators.  When we bought our current house in Stockton\, we had a strong interest in fruit and vegetable gardening.  As a result\, we became very interested in encouraging pollinators to increase the yield from our small suburban yard.  We converted our front yard into a native garden to attract pollinators\, and we have been involved in similar projects at the University of the Pacific and John McCandless Charter School (Swain Campus).  In this talk\, we will discuss the ecology and benefits of native pollinators\, including butterflies\, native bees\, and hummingbirds.  We will also discuss simple gardening strategies that you can use on your property to provide invaluable habitat for native pollinators. \nDoug Weiser has been a professor of Biology at the University of the Pacific since 2009. He got a Bachelor in Chemistry from the College of Wooster in Ohio and a Ph.D. in Pharmacology from Duke University.  His research focuses on genes involved in stress response pathways and apoptosis using zebrafish as a model organism.  He teaches a variety of classes at UOP including general biology\, genetics\, biochemistry\, pharmacology\, cell biology\, cancer biology\, and molecular biology. \n Amy Weiser has been teaching AP Environmental Science and Biology at Lincoln High since 2017. She has also taught sixth and fourth grade. In addition\, Amy has worked as a wildlife biologist for the California Audubon Workinglands Group conducting Tricolored Blackbirds population counts and shorebird studies in the Grasslands near Merced. Amy also worked for 9 years as an environmental consultant on Avian Mortality studies on the Altamont Wind Resource Area. Amy taught outdoor education at Micke Grove zoo\, Tulare County Outdoor Education\, Mission Springs in Santa Cruz\, Point Reyes Summer Science Camp\, Camp Arroyo in Livermore\, and Anglican Youth Works in the Royal National Park (NSW\, Australia).  Amy has a Bachelor’s degree in Zoology from the University of California\, Davis\, and a Master’s Degree in Environmental Literacy from the Teachers College of San Joaquin.
URL:https://www.sanjoaquinaudubon.org/event/gardening-for-native-pollinators-in-the-central-valley/
LOCATION:Central United Methodist Church\, 3700 Pacific Avenue\, Stockton\, California
CATEGORIES:Chapter Programs
END:VEVENT
BEGIN:VEVENT
DTSTART;TZID=UTC:20230325T080000
DTEND;TZID=UTC:20230325T150000
DTSTAMP:20260424T021719
CREATED:20230307T115309Z
LAST-MODIFIED:20230307T130350Z
UID:3372-1679731200-1679756400@www.sanjoaquinaudubon.org
SUMMARY:Medford Island Trip
DESCRIPTION:Join leader David Fries on a field trip to Medford Island.  You need to register for this field rip. Please email David to confirm your participation – dfries.audubon@gmail.com   \nMeet David at 8:00AM at the boat docking station along Empire Track Road.
URL:https://www.sanjoaquinaudubon.org/event/medford-island-trip/
LOCATION:Medford Island
CATEGORIES:Birding FieldTrips
END:VEVENT
BEGIN:VEVENT
DTSTART;TZID=America/Los_Angeles:20230314T190000
DTEND;TZID=America/Los_Angeles:20230314T203000
DTSTAMP:20260424T021719
CREATED:20230226T102453Z
LAST-MODIFIED:20230315T064730Z
UID:3347-1678820400-1678825800@www.sanjoaquinaudubon.org
SUMMARY:Water Harvest - Water\, its history\, location and use
DESCRIPTION:By  Nancy E. Muleady-Mecham\, Ph.D \nDoc Nancy is an Adjunct Professor at Columbia College and Northern Arizona University with a Ph.D. in Biology. She teaches subjects in biology\, anatomy and physiology and medicine\, pathology\, astronomy\, and forestry and conduct research on Giant Sequoia ecology. \nShe is a Fulbright Scholar\, having taught and conducted research in Siberia at Gorno-Altaisk State University. She has also been the Biology Professor as a Visiting Lecturer for the Semester At Sea program where she taught Biology\, Conservation\, and Medicine around the world. \nShe has been appointed by the Secretary of the Interior of the United States to the Central California Resource Advisory Council for the Bureau of Land management. \nWhen not working on her research on Giant Sequoias she loves to backpack. She leads High Sierra backcountry seminars on horseback for Rock Creek pack Station. She has completed solo hikes of the John Muir and High Sierra Trails through the Sierra Nevada\, hiked through the Alps on The Haute Route from Chamonix to Zermatt\, and is a Pacific Crest Trail section hiker. She is the author of several books and peer-reviewed scientific research papers. She lives in the Sierra Nevada with her family. \n  \nNancy E. Muleady-Mecham\, Ph.D\nAdjunct Professor of Biology\, Northern Arizona University\nVisiting Lecturer\, University of Virginia Semester at Sea\nFulbright Scholar\, Gorno-Altai State University\, Russian Federation \n\n\n\n\n\nU.S. National Park Ranger\, Retired \nPO Box 3371\nArnold\, CA 95223
URL:https://www.sanjoaquinaudubon.org/event/water-harvest-water-its-history-location-and-use/
LOCATION:Central United Methodist Church\, 3700 Pacific Avenue\, Stockton\, California
CATEGORIES:Chapter Programs
END:VEVENT
BEGIN:VEVENT
DTSTART;TZID=UTC:20230218T083000
DTEND;TZID=UTC:20230218T130000
DTSTAMP:20260424T021719
CREATED:20230216T070944Z
LAST-MODIFIED:20230216T071006Z
UID:3299-1676709000-1676725200@www.sanjoaquinaudubon.org
SUMMARY:Trip to Flood/Waverly Rds
DESCRIPTION:We will meet at Rinaldi’s Market at 8:30 am this Saturday.   From there we will look for raptors and other birds along the eastern side of the county.\nThe address for the market is 4625 N Duncan Rd\, Linden.  Plan to bring lunch as we will probably bird until 1pm or so.
URL:https://www.sanjoaquinaudubon.org/event/trip-to-flood-waverly-rds/
LOCATION:Rinaldi’s Market\, 4625 N Duncan Rd\, Linden\, CA\, United States
END:VEVENT
BEGIN:VEVENT
DTSTART;VALUE=DATE:20230217
DTEND;VALUE=DATE:20230221
DTSTAMP:20260424T021719
CREATED:20230207T071023Z
LAST-MODIFIED:20230207T071023Z
UID:3287-1676592000-1676937599@www.sanjoaquinaudubon.org
SUMMARY:Great Backyard Bird Count
DESCRIPTION:From audubon.org web site \nThe 26th annual GBBC will be held Friday\, February 17\, through Monday\, February 20\, 2023. Please visit the official website at birdcount.org for more information and be sure to check out the latest educational and promotional resources. \nThe Great Backyard Bird Count (GBBC) is a free\, fun\, and easy event that engages bird watchers of all ages in counting birds to create a real-time snapshot of bird populations. Participants are asked to count birds for as little as 15 minutes (or as long as they wish) on one or more days of the four-day event and report their sightings online at birdcount.org. Anyone can take part in the Great Backyard Bird Count\, from beginning bird watchers to experts\, and you can participate from your backyard\, or anywhere in the world.
URL:https://www.sanjoaquinaudubon.org/event/great-backyard-bird-count/
LOCATION:Backyard
CATEGORIES:External Events
END:VEVENT
BEGIN:VEVENT
DTSTART;TZID=UTC:20230214T193000
DTEND;TZID=UTC:20230214T210000
DTSTAMP:20260424T021719
CREATED:20230122T060729Z
LAST-MODIFIED:20230122T063918Z
UID:3263-1676403000-1676408400@www.sanjoaquinaudubon.org
SUMMARY:Birds of Papua New Guniea (PNG) with a Brief but Complex History of the Region and a Sprinkling of Australian Birds
DESCRIPTION:Presented by Chris Conard \nIn August 2022\, Chris joined a group largely composed of Sacramento/San Joaquin-based birders to Papua New Guinea (PNG)\, which comprises the eastern half of the world’s second largest island. We had a wonderful time viewing and listening to perhaps the most spectacular avifauna on earth\, including the incomparable birds of paradise\, bowerbirds\, crowned pigeons\, and paradise-kingfishers to name but a few. The tour ranged from the humid\, leech-infested lowlands to cool\, mossy forests over ten thousand feet in elevation\, and wrapped up on the volcano-strewn island of New Britain in the Bismarck Sea. PNG is both magnificent and fraught. It is also one of the most ethnically complex regions of the world\, with a history of human settlement of over fifty thousand years; twenty percent of the world’s languages developed on the island. The capital\, Port Moresby\, is perennially listed among the ten most violent cities in the world. There is palpable tribal tension in the highlands and shocking poverty in the lowlands. Yet\, the local guides were wonderfully helpful and proud to show some of the highlights of their country. If all that wasn’t enough\, most of the group spent five days in Australia before heading home.Chris Conard is a Natural Resource Specialist at the Bufferlands in Sacramento County. He regularly leads field trips for Sacramento Audubon\, serves as a county editor for eBird\, and is a past president of the Central Valley Bird Club.
URL:https://www.sanjoaquinaudubon.org/event/birds-of-papua-new-guniea-png-with-a-brief-but-complex-history-of-the-region-and-a-sprinkling-of-australian-birds/
LOCATION:Central United Methodist Church\, 3700 Pacific Avenue\, Stockton\, California
CATEGORIES:Chapter Programs
ATTACH;FMTTYPE=image/png:https://www.sanjoaquinaudubon.org/wp-content/uploads/2023/01/Raggiana-Bird-of-Paradise-Aug-2022.png
END:VEVENT
BEGIN:VEVENT
DTSTART;TZID=UTC:20230101T060000
DTEND;TZID=UTC:20230101T180000
DTSTAMP:20260424T021719
CREATED:20220101T080055Z
LAST-MODIFIED:20221231T032351Z
UID:3065-1672552800-1672596000@www.sanjoaquinaudubon.org
SUMMARY:Wallace-Bellota CBC 2022
DESCRIPTION:CBC date has been changed to Jan 1st. \nGood Luck Teams!.
URL:https://www.sanjoaquinaudubon.org/event/wallace-bellota-cbc-2022/
LOCATION:CA
CATEGORIES:CBC
END:VEVENT
END:VCALENDAR