BEGIN:VCALENDAR
VERSION:2.0
PRODID:-//SJAUDUBON - ECPv6.15.13//NONSGML v1.0//EN
CALSCALE:GREGORIAN
METHOD:PUBLISH
X-ORIGINAL-URL:https://www.sanjoaquinaudubon.org
X-WR-CALDESC:Events for SJAUDUBON
REFRESH-INTERVAL;VALUE=DURATION:PT1H
X-Robots-Tag:noindex
X-PUBLISHED-TTL:PT1H
BEGIN:VTIMEZONE
TZID:UTC
BEGIN:STANDARD
TZOFFSETFROM:+0000
TZOFFSETTO:+0000
TZNAME:UTC
DTSTART:20220101T000000
END:STANDARD
END:VTIMEZONE
BEGIN:VEVENT
DTSTART;TZID=UTC:20230507T080000
DTEND;TZID=UTC:20230507T220000
DTSTAMP:20260424T091804
CREATED:20230424T120831Z
LAST-MODIFIED:20230424T120831Z
UID:3504-1683446400-1683496800@www.sanjoaquinaudubon.org
SUMMARY:UOP Native Plant Walk
DESCRIPTION:Leaders – Doug and Amy Weiser \n\nMeet Doug and Amy Weiser at 8 am at the benches at the south side of the Biological Sciences Building (near Kensington and Alpine Road intersection). This morning walk will visit the Lower Calaveras River\, and the two native plant gardens at the University of the Pacific discussing the native pollinators\, native plants and birds.
URL:https://www.sanjoaquinaudubon.org/event/uop-native-plant-walk/
LOCATION:Biological Sciences Building (South Side)\, 3401 Kensington Way\, Stockton\, CA\, 95204\, United States
CATEGORIES:Plants FieldTrips
END:VEVENT
END:VCALENDAR