BEGIN:VCALENDAR
VERSION:2.0
PRODID:-//SJAUDUBON - ECPv6.15.13//NONSGML v1.0//EN
CALSCALE:GREGORIAN
METHOD:PUBLISH
X-WR-CALNAME:SJAUDUBON
X-ORIGINAL-URL:https://www.sanjoaquinaudubon.org
X-WR-CALDESC:Events for SJAUDUBON
REFRESH-INTERVAL;VALUE=DURATION:PT1H
X-Robots-Tag:noindex
X-PUBLISHED-TTL:PT1H
BEGIN:VTIMEZONE
TZID:UTC
BEGIN:STANDARD
TZOFFSETFROM:+0000
TZOFFSETTO:+0000
TZNAME:UTC
DTSTART:20250101T000000
END:STANDARD
END:VTIMEZONE
BEGIN:VEVENT
DTSTART;TZID=UTC:20260425T090000
DTEND;TZID=UTC:20260425T150000
DTSTAMP:20260423T050007
CREATED:20230422T032227Z
LAST-MODIFIED:20260317T204635Z
UID:3481-1777107600-1777129200@www.sanjoaquinaudubon.org
SUMMARY:Tracy Earth Day
DESCRIPTION:Tracy Earth Day is on 25th April (Saturday)\, 2026 at 9th Street and Central Avenue\, Tracy.  Please visit the web site of the event for more info. San Joaquin Audubon will be there. Please make sure to visit our booth!. \n 
URL:https://www.sanjoaquinaudubon.org/event/tracy-earth-day/
CATEGORIES:Birding FieldTrips,External Events
END:VEVENT
BEGIN:VEVENT
DTSTART;TZID=UTC:20260426T080000
DTEND;TZID=UTC:20260426T100000
DTSTAMP:20260423T050007
CREATED:20230623T113206Z
LAST-MODIFIED:20260321T205510Z
UID:3630-1777190400-1777197600@www.sanjoaquinaudubon.org
SUMMARY:Beginner’s Bird Walk At Mountain House Creek Park & Wetlands
DESCRIPTION:Join leader Henry Koertzen for a beginning bird trip for people of all ages. We will start the bird walk near the intersection of Main Street and Central Parkway (at the pond side of the road). We will be walking the dirt path\, accessible by stroller or wheelchair. \nLocation:  Mountain House Park\, 25 Main St\, Mountain House
URL:https://www.sanjoaquinaudubon.org/event/beginners-bird-walk-at-mountain-house-creek-park-wetlands/
LOCATION:Mountain House Park\, 25 Main St\, Mountain House\, CA\, United States
CATEGORIES:Birding FieldTrips
END:VEVENT
END:VCALENDAR